BEGIN:VCALENDAR
VERSION:2.0
PRODID:Departament d'Antropologia DAFITS
BEGIN:VEVENT
UID:69ec26e5a99e9
DTSTART:20260428T160000Z
SEQUENCE:0
TRANSP:OPAQUE
DTEND:20260428T180000Z
URL:https://www.antropologia.urv.cat/ca/agenda/12080/cicle-de-converses-pod
 em-lxs-anormals-esdevenir-experts
LOCATION:Centre LGTBI de Barcelona. Comte Borrell\, 22. Barcelona
SUMMARY:cicle de converses «Podem lxs anormals\, esdevenir experts?»
CLASS:PUBLIC
DESCRIPTION:Us informem d&#39\;aquest cicle de converses amb el títol &laq
 uo\;Podem lxs anormals\, esdevenir experts?&raquo\;&nbsp\;on un conjunt de
  professionals de diferents entitats oferiran dos sessions\, la primera el
  dia 28 d&#39\;abril i a les 18 h sobre &laquo\;Sabers intersex i no binar
 is per a futurs científics habitables&raquo\;&nbsp\;i una segona sessió 
 el dia 26 de maig\, també a les 18 h sobre &laquo\;L&#39\;expertesa en di
 sputa: sabers profans i altres intensitats contrahegemòniques en salut me
 ntal&raquo\;. Esperem sigui del vostre interès i si ho és\, hi esteu con
 vidats /des.\n\nEn ofereixen més informació que també teniu disponible 
 al cartell de cicle:\n\nVeus&nbsp\;activistes\, acadèmiques\, artistes\, 
 indígenes i\, sovint\, híbrides fa temps que ens conviden a qüestionar 
 què considerem coneixement vàlid i qui té dret a produir-lo. Si Gayatri
  Spivak es preguntava poden parlar lxs subalternxs?\, Rita Segato ens reco
 rda la violència colonial històricament implícita en l&#39\;intent de &
 quot\;traduir&quot\; les històries de lxs altres. Seguint aquest fil\, Pa
 ul Preciado desplaça la qüestió cap al terreny de les normes en salut q
 ue regulen qui mereix ser escoltat al preguntar: poden lxs anormals esdeve
 nir expertxs?\n\nAquest cicle de converses neix del creuament entre dues u
 rgències: d&#39\;una banda\, reconèixer el valor de l&#39\;experiència 
 situada com a font legítima de coneixement en salut\; de l&#39\;altra\, e
 vitar la deriva cap a un tancament identitari que ens condemni a dialogar 
 dins l&#39\;estret marc de &quot\;només nosaltres podem parlar de nosaltr
 es&quot\;. En un context polític en què proliferen les invitacions a tan
 car fronteres -materials i simbòliques- apostem per sostenir pràctiques 
 de saber que les travessin radicalment.\n\nDes d&#39\;un pensar transfront
 erer entés com a un pensar-fer juntxs i aliadxs\, en aquest cicle convoqu
 em posicions diverses i entrellaçades -intersex\, trans\, persones amb pa
 timent psíquic\, acadèmiques\, activistes i altres- per conversar sobre 
 el present compartit i els futurs habitables. Més que sumar veus\, busque
 m assajar formes de saber cuidar que permetin disputar la pròpia noció d
 e futur: quins futurs imaginem\, per a qui\, i des de quins cossos territo
 ris poden arribar a ser habitables.\n\nPer a més informació podeu escriu
 re a: sam.fernandez@uclm.es
DTSTAMP:20260425T022853Z
END:VEVENT
BEGIN:VEVENT
UID:69ec26e5adfca
DTSTART:20260526T160000Z
SEQUENCE:0
TRANSP:OPAQUE
DTEND:20260526T180000Z
URL:https://www.antropologia.urv.cat/ca/agenda/12080/cicle-de-converses-pod
 em-lxs-anormals-esdevenir-experts
LOCATION:Centre LGTBI de Barcelona. Comte Borrell\, 22. Barcelona
SUMMARY:cicle de converses «Podem lxs anormals\, esdevenir experts?»
CLASS:PUBLIC
DESCRIPTION:Us informem d&#39\;aquest cicle de converses amb el títol &laq
 uo\;Podem lxs anormals\, esdevenir experts?&raquo\;&nbsp\;on un conjunt de
  professionals de diferents entitats oferiran dos sessions\, la primera el
  dia 28 d&#39\;abril i a les 18 h sobre &laquo\;Sabers intersex i no binar
 is per a futurs científics habitables&raquo\;&nbsp\;i una segona sessió 
 el dia 26 de maig\, també a les 18 h sobre &laquo\;L&#39\;expertesa en di
 sputa: sabers profans i altres intensitats contrahegemòniques en salut me
 ntal&raquo\;. Esperem sigui del vostre interès i si ho és\, hi esteu con
 vidats /des.\n\nEn ofereixen més informació que també teniu disponible 
 al cartell de cicle:\n\nVeus&nbsp\;activistes\, acadèmiques\, artistes\, 
 indígenes i\, sovint\, híbrides fa temps que ens conviden a qüestionar 
 què considerem coneixement vàlid i qui té dret a produir-lo. Si Gayatri
  Spivak es preguntava poden parlar lxs subalternxs?\, Rita Segato ens reco
 rda la violència colonial històricament implícita en l&#39\;intent de &
 quot\;traduir&quot\; les històries de lxs altres. Seguint aquest fil\, Pa
 ul Preciado desplaça la qüestió cap al terreny de les normes en salut q
 ue regulen qui mereix ser escoltat al preguntar: poden lxs anormals esdeve
 nir expertxs?\n\nAquest cicle de converses neix del creuament entre dues u
 rgències: d&#39\;una banda\, reconèixer el valor de l&#39\;experiència 
 situada com a font legítima de coneixement en salut\; de l&#39\;altra\, e
 vitar la deriva cap a un tancament identitari que ens condemni a dialogar 
 dins l&#39\;estret marc de &quot\;només nosaltres podem parlar de nosaltr
 es&quot\;. En un context polític en què proliferen les invitacions a tan
 car fronteres -materials i simbòliques- apostem per sostenir pràctiques 
 de saber que les travessin radicalment.\n\nDes d&#39\;un pensar transfront
 erer entés com a un pensar-fer juntxs i aliadxs\, en aquest cicle convoqu
 em posicions diverses i entrellaçades -intersex\, trans\, persones amb pa
 timent psíquic\, acadèmiques\, activistes i altres- per conversar sobre 
 el present compartit i els futurs habitables. Més que sumar veus\, busque
 m assajar formes de saber cuidar que permetin disputar la pròpia noció d
 e futur: quins futurs imaginem\, per a qui\, i des de quins cossos territo
 ris poden arribar a ser habitables.\n\nPer a més informació podeu escriu
 re a: sam.fernandez@uclm.es
DTSTAMP:20260425T022853Z
END:VEVENT
END:VCALENDAR